BEGIN:VCALENDAR
VERSION:2.0
PRODID:-//Vision Homeschool Basketball - ECPv6.15.20//NONSGML v1.0//EN
CALSCALE:GREGORIAN
METHOD:PUBLISH
X-WR-CALNAME:Vision Homeschool Basketball
X-ORIGINAL-URL:https://visionbb.org
X-WR-CALDESC:Events for Vision Homeschool Basketball
REFRESH-INTERVAL;VALUE=DURATION:PT1H
X-Robots-Tag:noindex
X-PUBLISHED-TTL:PT1H
BEGIN:VTIMEZONE
TZID:America/Chicago
BEGIN:DAYLIGHT
TZOFFSETFROM:-0600
TZOFFSETTO:-0500
TZNAME:CDT
DTSTART:20210314T080000
END:DAYLIGHT
BEGIN:STANDARD
TZOFFSETFROM:-0500
TZOFFSETTO:-0600
TZNAME:CST
DTSTART:20211107T070000
END:STANDARD
BEGIN:DAYLIGHT
TZOFFSETFROM:-0600
TZOFFSETTO:-0500
TZNAME:CDT
DTSTART:20220313T080000
END:DAYLIGHT
BEGIN:STANDARD
TZOFFSETFROM:-0500
TZOFFSETTO:-0600
TZNAME:CST
DTSTART:20221106T070000
END:STANDARD
BEGIN:DAYLIGHT
TZOFFSETFROM:-0600
TZOFFSETTO:-0500
TZNAME:CDT
DTSTART:20230312T080000
END:DAYLIGHT
BEGIN:STANDARD
TZOFFSETFROM:-0500
TZOFFSETTO:-0600
TZNAME:CST
DTSTART:20231105T070000
END:STANDARD
END:VTIMEZONE
BEGIN:VEVENT
DTSTART;TZID=America/Chicago:20221025T173000
DTEND;TZID=America/Chicago:20221025T200000
DTSTAMP:20260419T073556
CREATED:20221013T221156Z
LAST-MODIFIED:20221013T221156Z
UID:4598-1666719000-1666728000@visionbb.org
SUMMARY:JV/V Boys practice
DESCRIPTION:JV/V Boys practice at Christ Community Church
URL:https://visionbb.org/event/jv-v-boys-practice-10/2022-10-25/
LOCATION:Christ Community Church The PLEX\, 5501 George Washington Carver Ave\, Ames\, IA 50010\, United States
GEO:42.0307812;-93.6319131
END:VEVENT
END:VCALENDAR