BEGIN:VCALENDAR
VERSION:2.0
PRODID:-//Vision Homeschool Basketball - ECPv6.15.20//NONSGML v1.0//EN
CALSCALE:GREGORIAN
METHOD:PUBLISH
X-WR-CALNAME:Vision Homeschool Basketball
X-ORIGINAL-URL:https://visionbb.org
X-WR-CALDESC:Events for Vision Homeschool Basketball
REFRESH-INTERVAL;VALUE=DURATION:PT1H
X-Robots-Tag:noindex
X-PUBLISHED-TTL:PT1H
BEGIN:VTIMEZONE
TZID:America/Chicago
BEGIN:DAYLIGHT
TZOFFSETFROM:-0600
TZOFFSETTO:-0500
TZNAME:CDT
DTSTART:20140309T080000
END:DAYLIGHT
BEGIN:STANDARD
TZOFFSETFROM:-0500
TZOFFSETTO:-0600
TZNAME:CST
DTSTART:20141102T070000
END:STANDARD
BEGIN:DAYLIGHT
TZOFFSETFROM:-0600
TZOFFSETTO:-0500
TZNAME:CDT
DTSTART:20150308T080000
END:DAYLIGHT
BEGIN:STANDARD
TZOFFSETFROM:-0500
TZOFFSETTO:-0600
TZNAME:CST
DTSTART:20151101T070000
END:STANDARD
BEGIN:DAYLIGHT
TZOFFSETFROM:-0600
TZOFFSETTO:-0500
TZNAME:CDT
DTSTART:20160313T080000
END:DAYLIGHT
BEGIN:STANDARD
TZOFFSETFROM:-0500
TZOFFSETTO:-0600
TZNAME:CST
DTSTART:20161106T070000
END:STANDARD
END:VTIMEZONE
BEGIN:VEVENT
DTSTART;TZID=America/Chicago:20151217T190000
DTEND;TZID=America/Chicago:20151217T200000
DTSTAMP:20260419T153037
CREATED:20161004T211542Z
LAST-MODIFIED:20161004T211542Z
UID:1304-1450378800-1450382400@visionbb.org
SUMMARY:JV boys vs. Hardin County
DESCRIPTION:
URL:https://visionbb.org/event/jv-boys-vs-hardin-county/
LOCATION:600 School Street\, Randall\, IA\, United States
GEO:42.2392211;-93.600797
END:VEVENT
BEGIN:VEVENT
DTSTART;TZID=America/Chicago:20151214T201500
DTEND;TZID=America/Chicago:20151214T213000
DTSTAMP:20260419T153037
CREATED:20161004T211545Z
LAST-MODIFIED:20161206T223209Z
UID:1351-1450124100-1450128600@visionbb.org
SUMMARY:Varsity girls vs. Hardin County
DESCRIPTION:
URL:https://visionbb.org/event/varsity-girls-vs-hardin-county-2/
LOCATION:600 School Street\, Randall\, IA\, United States
GEO:42.2392211;-93.600797
END:VEVENT
BEGIN:VEVENT
DTSTART;TZID=America/Chicago:20151214T201500
DTEND;TZID=America/Chicago:20151214T213000
DTSTAMP:20260419T153037
CREATED:20161004T211542Z
LAST-MODIFIED:20161004T211542Z
UID:1293-1450124100-1450128600@visionbb.org
SUMMARY:Varsity girls vs. Hardin County
DESCRIPTION:
URL:https://visionbb.org/event/varsity-girls-vs-hardin-county/
LOCATION:600 School Street\, Randall\, IA\, United States
GEO:42.2392211;-93.600797
END:VEVENT
BEGIN:VEVENT
DTSTART;TZID=America/Chicago:20151214T190000
DTEND;TZID=America/Chicago:20151214T200000
DTSTAMP:20260419T153037
CREATED:20161004T211545Z
LAST-MODIFIED:20161206T223209Z
UID:1349-1450119600-1450123200@visionbb.org
SUMMARY:JV girls vs. Hardin County
DESCRIPTION:
URL:https://visionbb.org/event/jv-girls-vs-hardin-county-2/
LOCATION:600 School Street\, Randall\, IA\, United States
GEO:42.2392211;-93.600797
END:VEVENT
BEGIN:VEVENT
DTSTART;TZID=America/Chicago:20151214T190000
DTEND;TZID=America/Chicago:20151214T200000
DTSTAMP:20260419T153037
CREATED:20161004T211542Z
LAST-MODIFIED:20161004T211542Z
UID:1291-1450119600-1450123200@visionbb.org
SUMMARY:JV girls vs. Hardin County
DESCRIPTION:
URL:https://visionbb.org/event/jv-girls-vs-hardin-county/
LOCATION:600 School Street\, Randall\, IA\, United States
GEO:42.2392211;-93.600797
END:VEVENT
BEGIN:VEVENT
DTSTART;TZID=America/Chicago:20151214T180000
DTEND;TZID=America/Chicago:20151214T190000
DTSTAMP:20260419T153037
CREATED:20161004T211544Z
LAST-MODIFIED:20161206T223209Z
UID:1347-1450116000-1450119600@visionbb.org
SUMMARY:MS girls vs. Hardin County
DESCRIPTION:
URL:https://visionbb.org/event/ms-girls-vs-hardin-county-2/
LOCATION:600 School Street\, Randall\, IA\, United States
GEO:42.2392211;-93.600797
END:VEVENT
BEGIN:VEVENT
DTSTART;TZID=America/Chicago:20151214T180000
DTEND;TZID=America/Chicago:20151214T190000
DTSTAMP:20260419T153037
CREATED:20161004T211541Z
LAST-MODIFIED:20161004T211541Z
UID:1289-1450116000-1450119600@visionbb.org
SUMMARY:MS girls vs. Hardin County
DESCRIPTION:
URL:https://visionbb.org/event/ms-girls-vs-hardin-county/
LOCATION:600 School Street\, Randall\, IA\, United States
GEO:42.2392211;-93.600797
END:VEVENT
END:VCALENDAR