BEGIN:VCALENDAR
VERSION:2.0
PRODID:-//Vision Homeschool Basketball - ECPv6.15.20//NONSGML v1.0//EN
CALSCALE:GREGORIAN
METHOD:PUBLISH
X-WR-CALNAME:Vision Homeschool Basketball
X-ORIGINAL-URL:https://visionbb.org
X-WR-CALDESC:Events for Vision Homeschool Basketball
REFRESH-INTERVAL;VALUE=DURATION:PT1H
X-Robots-Tag:noindex
X-PUBLISHED-TTL:PT1H
BEGIN:VTIMEZONE
TZID:America/Chicago
BEGIN:DAYLIGHT
TZOFFSETFROM:-0600
TZOFFSETTO:-0500
TZNAME:CDT
DTSTART:20200308T080000
END:DAYLIGHT
BEGIN:STANDARD
TZOFFSETFROM:-0500
TZOFFSETTO:-0600
TZNAME:CST
DTSTART:20201101T070000
END:STANDARD
BEGIN:DAYLIGHT
TZOFFSETFROM:-0600
TZOFFSETTO:-0500
TZNAME:CDT
DTSTART:20210314T080000
END:DAYLIGHT
BEGIN:STANDARD
TZOFFSETFROM:-0500
TZOFFSETTO:-0600
TZNAME:CST
DTSTART:20211107T070000
END:STANDARD
BEGIN:DAYLIGHT
TZOFFSETFROM:-0600
TZOFFSETTO:-0500
TZNAME:CDT
DTSTART:20220313T080000
END:DAYLIGHT
BEGIN:STANDARD
TZOFFSETFROM:-0500
TZOFFSETTO:-0600
TZNAME:CST
DTSTART:20221106T070000
END:STANDARD
BEGIN:DAYLIGHT
TZOFFSETFROM:-0600
TZOFFSETTO:-0500
TZNAME:CDT
DTSTART:20230312T080000
END:DAYLIGHT
BEGIN:STANDARD
TZOFFSETFROM:-0500
TZOFFSETTO:-0600
TZNAME:CST
DTSTART:20231105T070000
END:STANDARD
BEGIN:DAYLIGHT
TZOFFSETFROM:-0600
TZOFFSETTO:-0500
TZNAME:CDT
DTSTART:20240310T080000
END:DAYLIGHT
BEGIN:STANDARD
TZOFFSETFROM:-0500
TZOFFSETTO:-0600
TZNAME:CST
DTSTART:20241103T070000
END:STANDARD
BEGIN:DAYLIGHT
TZOFFSETFROM:-0600
TZOFFSETTO:-0500
TZNAME:CDT
DTSTART:20250309T080000
END:DAYLIGHT
BEGIN:STANDARD
TZOFFSETFROM:-0500
TZOFFSETTO:-0600
TZNAME:CST
DTSTART:20251102T070000
END:STANDARD
END:VTIMEZONE
BEGIN:VEVENT
DTSTART;TZID=America/Chicago:20240106T083000
DTEND;TZID=America/Chicago:20240106T103000
DTSTAMP:20260419T104331
CREATED:20230916T132739Z
LAST-MODIFIED:20231110T031518Z
UID:5187-1704529800-1704537000@visionbb.org
SUMMARY:VG Game: Vision vs. St. Joseph
DESCRIPTION:9am Vision vs. St. Joseph
URL:https://visionbb.org/event/vg-game-st-joseph-vs-vision/
LOCATION:Blake Fieldhouse\, 403 S. 15th St\,\, Indianola\, IA\, 50125\, United States
END:VEVENT
BEGIN:VEVENT
DTSTART;TZID=America/Chicago:20210219T160000
DTEND;TZID=America/Chicago:20210219T213000
DTSTAMP:20260419T104331
CREATED:20201011T003206Z
LAST-MODIFIED:20210211T045450Z
UID:3508-1613750400-1613770200@visionbb.org
SUMMARY:Vision @ DSM Warriors
DESCRIPTION:Vision @ Des Moines Warriors \nBlake Fieldhouse \n403 S 15th St\, Indianola\, IA 50125 \n5:15 PM Gym opens\n5:35 PM JH boys\n6:50 PM VG\n8:20 PM VB
URL:https://visionbb.org/event/vision-dsm-warriors-2/
LOCATION:Blake Fieldhouse\, 403 S. 15th St\,\, Indianola\, IA\, 50125\, United States
END:VEVENT
END:VCALENDAR