BEGIN:VCALENDAR
VERSION:2.0
PRODID:-//Vision Homeschool Basketball - ECPv6.15.20//NONSGML v1.0//EN
CALSCALE:GREGORIAN
METHOD:PUBLISH
X-WR-CALNAME:Vision Homeschool Basketball
X-ORIGINAL-URL:https://visionbb.org
X-WR-CALDESC:Events for Vision Homeschool Basketball
REFRESH-INTERVAL;VALUE=DURATION:PT1H
X-Robots-Tag:noindex
X-PUBLISHED-TTL:PT1H
BEGIN:VTIMEZONE
TZID:America/Chicago
BEGIN:DAYLIGHT
TZOFFSETFROM:-0600
TZOFFSETTO:-0500
TZNAME:CDT
DTSTART:20150308T080000
END:DAYLIGHT
BEGIN:STANDARD
TZOFFSETFROM:-0500
TZOFFSETTO:-0600
TZNAME:CST
DTSTART:20151101T070000
END:STANDARD
BEGIN:DAYLIGHT
TZOFFSETFROM:-0600
TZOFFSETTO:-0500
TZNAME:CDT
DTSTART:20160313T080000
END:DAYLIGHT
BEGIN:STANDARD
TZOFFSETFROM:-0500
TZOFFSETTO:-0600
TZNAME:CST
DTSTART:20161106T070000
END:STANDARD
BEGIN:DAYLIGHT
TZOFFSETFROM:-0600
TZOFFSETTO:-0500
TZNAME:CDT
DTSTART:20170312T080000
END:DAYLIGHT
BEGIN:STANDARD
TZOFFSETFROM:-0500
TZOFFSETTO:-0600
TZNAME:CST
DTSTART:20171105T070000
END:STANDARD
BEGIN:DAYLIGHT
TZOFFSETFROM:-0600
TZOFFSETTO:-0500
TZNAME:CDT
DTSTART:20180311T080000
END:DAYLIGHT
BEGIN:STANDARD
TZOFFSETFROM:-0500
TZOFFSETTO:-0600
TZNAME:CST
DTSTART:20181104T070000
END:STANDARD
BEGIN:DAYLIGHT
TZOFFSETFROM:-0600
TZOFFSETTO:-0500
TZNAME:CDT
DTSTART:20190310T080000
END:DAYLIGHT
BEGIN:STANDARD
TZOFFSETFROM:-0500
TZOFFSETTO:-0600
TZNAME:CST
DTSTART:20191103T070000
END:STANDARD
BEGIN:DAYLIGHT
TZOFFSETFROM:-0600
TZOFFSETTO:-0500
TZNAME:CDT
DTSTART:20200308T080000
END:DAYLIGHT
BEGIN:STANDARD
TZOFFSETFROM:-0500
TZOFFSETTO:-0600
TZNAME:CST
DTSTART:20201101T070000
END:STANDARD
BEGIN:DAYLIGHT
TZOFFSETFROM:-0600
TZOFFSETTO:-0500
TZNAME:CDT
DTSTART:20210314T080000
END:DAYLIGHT
BEGIN:STANDARD
TZOFFSETFROM:-0500
TZOFFSETTO:-0600
TZNAME:CST
DTSTART:20211107T070000
END:STANDARD
BEGIN:DAYLIGHT
TZOFFSETFROM:-0600
TZOFFSETTO:-0500
TZNAME:CDT
DTSTART:20220313T080000
END:DAYLIGHT
BEGIN:STANDARD
TZOFFSETFROM:-0500
TZOFFSETTO:-0600
TZNAME:CST
DTSTART:20221106T070000
END:STANDARD
BEGIN:DAYLIGHT
TZOFFSETFROM:-0600
TZOFFSETTO:-0500
TZNAME:CDT
DTSTART:20230312T080000
END:DAYLIGHT
BEGIN:STANDARD
TZOFFSETFROM:-0500
TZOFFSETTO:-0600
TZNAME:CST
DTSTART:20231105T070000
END:STANDARD
END:VTIMEZONE
BEGIN:VEVENT
DTSTART;TZID=America/Chicago:20221118T164500
DTEND;TZID=America/Chicago:20221118T200000
DTSTAMP:20260419T084537
CREATED:20221110T011353Z
LAST-MODIFIED:20221115T234813Z
UID:4838-1668789900-1668801600@visionbb.org
SUMMARY:JHB Game: DSM Defenders & Oskaloosa
DESCRIPTION:Schedule updated 11/15/2022 5:50pm\, RW \n\n\n\n6:00 PM\nJHB 5/6th Defenders vs JHB 6/7th Vision\n\n\n7:00 PM\nJHB Vision vs JHB Oskaloosa\n\n\n8:00 PM\nJHB Defenders vs JHB Vision
URL:https://visionbb.org/event/jhb-game-dsm-defenders-oskaloosa/
LOCATION:Heritage Assembly of God\, 5051 NE 5th St\, Des Moines\, IA\, United States
GEO:41.652258;-93.612048
X-APPLE-STRUCTURED-LOCATION;VALUE=URI;X-ADDRESS=Heritage Assembly of God 5051 NE 5th St Des Moines IA United States;X-APPLE-RADIUS=500;X-TITLE=5051 NE 5th St:geo:-93.612048,41.652258
END:VEVENT
BEGIN:VEVENT
DTSTART;TZID=America/Chicago:20221109T164500
DTEND;TZID=America/Chicago:20221109T200000
DTSTAMP:20260419T084537
CREATED:20221110T015759Z
LAST-MODIFIED:20221110T015759Z
UID:4835-1668012300-1668024000@visionbb.org
SUMMARY:JHB\, DSM Defenders & Oskaloosa
DESCRIPTION:4:45 DSM Defenders \n6:45 Oskaloosa
URL:https://visionbb.org/event/jhb-dsm-defenders-oskaloosa/
LOCATION:Heritage Assembly of God\, 5051 NE 5th St\, Des Moines\, IA\, United States
GEO:41.652258;-93.612048
X-APPLE-STRUCTURED-LOCATION;VALUE=URI;X-ADDRESS=Heritage Assembly of God 5051 NE 5th St Des Moines IA United States;X-APPLE-RADIUS=500;X-TITLE=5051 NE 5th St:geo:-93.612048,41.652258
END:VEVENT
BEGIN:VEVENT
DTSTART;TZID=America/Chicago:20210126T160000
DTEND;TZID=America/Chicago:20210126T200000
DTSTAMP:20260419T084537
CREATED:20201011T003912Z
LAST-MODIFIED:20210123T014539Z
UID:3518-1611676800-1611691200@visionbb.org
SUMMARY:JHG/JHB/JVG @ DSM Warriors
DESCRIPTION:JHG 5pm \nJHB 6pm \nJVG 7pm
URL:https://visionbb.org/event/jh-girls-boys-dsm-warriors/
LOCATION:Heritage Assembly of God\, 5051 NE 5th St\, Des Moines\, IA\, United States
GEO:41.652258;-93.612048
X-APPLE-STRUCTURED-LOCATION;VALUE=URI;X-ADDRESS=Heritage Assembly of God 5051 NE 5th St Des Moines IA United States;X-APPLE-RADIUS=500;X-TITLE=5051 NE 5th St:geo:-93.612048,41.652258
END:VEVENT
BEGIN:VEVENT
DTSTART;TZID=America/Chicago:20171219T173000
DTEND;TZID=America/Chicago:20171219T193000
DTSTAMP:20260419T084537
CREATED:20171031T032646Z
LAST-MODIFIED:20171130T042638Z
UID:2196-1513704600-1513711800@visionbb.org
SUMMARY:JHG & JHB @ DSM Warriors
DESCRIPTION:JHG 5:30 \nJHB 6:30 \n@ Heritage Gym \n 
URL:https://visionbb.org/event/jhg-jhb-dsm-warriors/
LOCATION:Heritage Assembly of God\, 5051 NE 5th St\, Des Moines\, IA\, United States
GEO:41.652258;-93.612048
X-APPLE-STRUCTURED-LOCATION;VALUE=URI;X-ADDRESS=Heritage Assembly of God 5051 NE 5th St Des Moines IA United States;X-APPLE-RADIUS=500;X-TITLE=5051 NE 5th St:geo:-93.612048,41.652258
END:VEVENT
BEGIN:VEVENT
DTSTART;TZID=America/Chicago:20161219T173000
DTEND;TZID=America/Chicago:20161219T193000
DTSTAMP:20260419T084537
CREATED:20161122T213910Z
LAST-MODIFIED:20161219T150900Z
UID:1912-1482168600-1482175800@visionbb.org
SUMMARY:MS Girls and Boys @ DM Warriors
DESCRIPTION:5:30 pm JH Girls \n6:30 pm MS boys
URL:https://visionbb.org/event/ms-girls-and-boys-dm-warriors/
LOCATION:Heritage Assembly of God\, 5051 NE 5th St\, Des Moines\, IA\, United States
GEO:41.652258;-93.612048
X-APPLE-STRUCTURED-LOCATION;VALUE=URI;X-ADDRESS=Heritage Assembly of God 5051 NE 5th St Des Moines IA United States;X-APPLE-RADIUS=500;X-TITLE=5051 NE 5th St:geo:-93.612048,41.652258
END:VEVENT
END:VCALENDAR