BEGIN:VCALENDAR
VERSION:2.0
PRODID:-//Vision Homeschool Basketball - ECPv6.15.20//NONSGML v1.0//EN
CALSCALE:GREGORIAN
METHOD:PUBLISH
X-ORIGINAL-URL:https://visionbb.org
X-WR-CALDESC:Events for Vision Homeschool Basketball
REFRESH-INTERVAL;VALUE=DURATION:PT1H
X-Robots-Tag:noindex
X-PUBLISHED-TTL:PT1H
BEGIN:VTIMEZONE
TZID:America/Chicago
BEGIN:DAYLIGHT
TZOFFSETFROM:-0600
TZOFFSETTO:-0500
TZNAME:CDT
DTSTART:20150308T080000
END:DAYLIGHT
BEGIN:STANDARD
TZOFFSETFROM:-0500
TZOFFSETTO:-0600
TZNAME:CST
DTSTART:20151101T070000
END:STANDARD
BEGIN:DAYLIGHT
TZOFFSETFROM:-0600
TZOFFSETTO:-0500
TZNAME:CDT
DTSTART:20160313T080000
END:DAYLIGHT
BEGIN:STANDARD
TZOFFSETFROM:-0500
TZOFFSETTO:-0600
TZNAME:CST
DTSTART:20161106T070000
END:STANDARD
BEGIN:DAYLIGHT
TZOFFSETFROM:-0600
TZOFFSETTO:-0500
TZNAME:CDT
DTSTART:20170312T080000
END:DAYLIGHT
BEGIN:STANDARD
TZOFFSETFROM:-0500
TZOFFSETTO:-0600
TZNAME:CST
DTSTART:20171105T070000
END:STANDARD
BEGIN:DAYLIGHT
TZOFFSETFROM:-0600
TZOFFSETTO:-0500
TZNAME:CDT
DTSTART:20180311T080000
END:DAYLIGHT
BEGIN:STANDARD
TZOFFSETFROM:-0500
TZOFFSETTO:-0600
TZNAME:CST
DTSTART:20181104T070000
END:STANDARD
BEGIN:DAYLIGHT
TZOFFSETFROM:-0600
TZOFFSETTO:-0500
TZNAME:CDT
DTSTART:20190310T080000
END:DAYLIGHT
BEGIN:STANDARD
TZOFFSETFROM:-0500
TZOFFSETTO:-0600
TZNAME:CST
DTSTART:20191103T070000
END:STANDARD
BEGIN:DAYLIGHT
TZOFFSETFROM:-0600
TZOFFSETTO:-0500
TZNAME:CDT
DTSTART:20200308T080000
END:DAYLIGHT
BEGIN:STANDARD
TZOFFSETFROM:-0500
TZOFFSETTO:-0600
TZNAME:CST
DTSTART:20201101T070000
END:STANDARD
END:VTIMEZONE
BEGIN:VEVENT
DTSTART;TZID=America/Chicago:20190115T163000
DTEND;TZID=America/Chicago:20190115T190000
DTSTAMP:20260420T074147
CREATED:20181023T015345Z
LAST-MODIFIED:20190114T203825Z
UID:2595-1547569800-1547578800@visionbb.org
SUMMARY:JHG\, JHB\, JVG @ JCA
DESCRIPTION:JH Girls 4:30pm \nJH Boys 5:30pm \nJV Girls 6:30pm
URL:https://visionbb.org/event/jhg-jhb-jvg-jca/
LOCATION:Joshua Christian Academy Inc\, 1740 Garfield Avenue\, Des Moines\, IA\, United States
GEO:41.603487;-93.589464
END:VEVENT
BEGIN:VEVENT
DTSTART;TZID=America/Chicago:20160104T163000
DTEND;TZID=America/Chicago:20160104T173000
DTSTAMP:20260420T074147
CREATED:20161004T211546Z
LAST-MODIFIED:20161206T223210Z
UID:1374-1451925000-1451928600@visionbb.org
SUMMARY:MS girls at Oskaloosa Christian
DESCRIPTION:
URL:https://visionbb.org/event/ms-girls-at-oskaloosa-christian-2/
LOCATION:Joshua Christian Academy Inc\, 1740 Garfield Avenue\, Des Moines\, IA\, United States
GEO:41.603487;-93.589464
END:VEVENT
BEGIN:VEVENT
DTSTART;TZID=America/Chicago:20160104T163000
DTEND;TZID=America/Chicago:20160104T173000
DTSTAMP:20260420T074147
CREATED:20161004T211543Z
LAST-MODIFIED:20161004T211543Z
UID:1318-1451925000-1451928600@visionbb.org
SUMMARY:MS girls at Oskaloosa Christian
DESCRIPTION:
URL:https://visionbb.org/event/ms-girls-at-oskaloosa-christian/
LOCATION:Joshua Christian Academy Inc\, 1740 Garfield Avenue\, Des Moines\, IA\, United States
GEO:41.603487;-93.589464
END:VEVENT
END:VCALENDAR