BEGIN:VCALENDAR
VERSION:2.0
PRODID:-//Vision Homeschool Basketball - ECPv6.15.20//NONSGML v1.0//EN
CALSCALE:GREGORIAN
METHOD:PUBLISH
X-ORIGINAL-URL:https://visionbb.org
X-WR-CALDESC:Events for Vision Homeschool Basketball
REFRESH-INTERVAL;VALUE=DURATION:PT1H
X-Robots-Tag:noindex
X-PUBLISHED-TTL:PT1H
BEGIN:VTIMEZONE
TZID:America/Chicago
BEGIN:DAYLIGHT
TZOFFSETFROM:-0600
TZOFFSETTO:-0500
TZNAME:CDT
DTSTART:20140309T080000
END:DAYLIGHT
BEGIN:STANDARD
TZOFFSETFROM:-0500
TZOFFSETTO:-0600
TZNAME:CST
DTSTART:20141102T070000
END:STANDARD
BEGIN:DAYLIGHT
TZOFFSETFROM:-0600
TZOFFSETTO:-0500
TZNAME:CDT
DTSTART:20150308T080000
END:DAYLIGHT
BEGIN:STANDARD
TZOFFSETFROM:-0500
TZOFFSETTO:-0600
TZNAME:CST
DTSTART:20151101T070000
END:STANDARD
BEGIN:DAYLIGHT
TZOFFSETFROM:-0600
TZOFFSETTO:-0500
TZNAME:CDT
DTSTART:20160313T080000
END:DAYLIGHT
BEGIN:STANDARD
TZOFFSETFROM:-0500
TZOFFSETTO:-0600
TZNAME:CST
DTSTART:20161106T070000
END:STANDARD
END:VTIMEZONE
BEGIN:VEVENT
DTSTART;TZID=America/Chicago:20150221T120000
DTEND;TZID=America/Chicago:20150221T130000
DTSTAMP:20260421T083431
CREATED:20161004T211533Z
LAST-MODIFIED:20161004T211533Z
UID:1133-1424520000-1424523600@visionbb.org
SUMMARY:GAME: JV boys vs. CR Defenders
DESCRIPTION:
URL:https://visionbb.org/event/game-jv-boys-vs-cr-defenders/
LOCATION:Olin High School\, 212 Trilby St\, Olin\, IA 52320\, United States
GEO:41.9948145;-91.1399728
END:VEVENT
BEGIN:VEVENT
DTSTART;TZID=America/Chicago:20150221T110000
DTEND;TZID=America/Chicago:20150221T120000
DTSTAMP:20260421T083431
CREATED:20161004T211537Z
LAST-MODIFIED:20161206T223206Z
UID:1191-1424516400-1424520000@visionbb.org
SUMMARY:GAME: JH boys vs CR Defenders
DESCRIPTION:
URL:https://visionbb.org/event/game-jh-boys-vs-cr-defenders-2/
LOCATION:Olin High School\, 212 Trilby St\, Olin\, IA 52320\, United States
GEO:41.9948145;-91.1399728
END:VEVENT
BEGIN:VEVENT
DTSTART;TZID=America/Chicago:20150221T110000
DTEND;TZID=America/Chicago:20150221T120000
DTSTAMP:20260421T083431
CREATED:20161004T211533Z
LAST-MODIFIED:20161004T211533Z
UID:1132-1424516400-1424520000@visionbb.org
SUMMARY:GAME: JH boys vs CR Defenders
DESCRIPTION:
URL:https://visionbb.org/event/game-jh-boys-vs-cr-defenders/
LOCATION:Olin High School\, 212 Trilby St\, Olin\, IA 52320\, United States
GEO:41.9948145;-91.1399728
END:VEVENT
END:VCALENDAR