BEGIN:VCALENDAR
VERSION:2.0
PRODID:-//Vision Homeschool Basketball - ECPv6.15.20//NONSGML v1.0//EN
CALSCALE:GREGORIAN
METHOD:PUBLISH
X-ORIGINAL-URL:https://visionbb.org
X-WR-CALDESC:Events for Vision Homeschool Basketball
REFRESH-INTERVAL;VALUE=DURATION:PT1H
X-Robots-Tag:noindex
X-PUBLISHED-TTL:PT1H
BEGIN:VTIMEZONE
TZID:America/Chicago
BEGIN:DAYLIGHT
TZOFFSETFROM:-0600
TZOFFSETTO:-0500
TZNAME:CDT
DTSTART:20150308T080000
END:DAYLIGHT
BEGIN:STANDARD
TZOFFSETFROM:-0500
TZOFFSETTO:-0600
TZNAME:CST
DTSTART:20151101T070000
END:STANDARD
BEGIN:DAYLIGHT
TZOFFSETFROM:-0600
TZOFFSETTO:-0500
TZNAME:CDT
DTSTART:20160313T080000
END:DAYLIGHT
BEGIN:STANDARD
TZOFFSETFROM:-0500
TZOFFSETTO:-0600
TZNAME:CST
DTSTART:20161106T070000
END:STANDARD
BEGIN:DAYLIGHT
TZOFFSETFROM:-0600
TZOFFSETTO:-0500
TZNAME:CDT
DTSTART:20170312T080000
END:DAYLIGHT
BEGIN:STANDARD
TZOFFSETFROM:-0500
TZOFFSETTO:-0600
TZNAME:CST
DTSTART:20171105T070000
END:STANDARD
END:VTIMEZONE
BEGIN:VEVENT
DTSTART;TZID=America/Chicago:20161025T180000
DTEND;TZID=America/Chicago:20161025T200000
DTSTAMP:20260419T183241
CREATED:20161003T191028Z
LAST-MODIFIED:20161011T143627Z
UID:860-1477418400-1477425600@visionbb.org
SUMMARY:JV/V Boys Practice
DESCRIPTION:
URL:https://visionbb.org/event/jvv-boys-practice-68/
LOCATION:Sacred Heart School\, 1111 Marshall St\, Boone\, IA 50036\, USA
GEO:42.0670251;-93.8783952
END:VEVENT
BEGIN:VEVENT
DTSTART;TZID=America/Chicago:20161025T180000
DTEND;TZID=America/Chicago:20161025T200000
DTSTAMP:20260419T183241
CREATED:20161003T191028Z
LAST-MODIFIED:20161011T143627Z
UID:862-1477418400-1477425600@visionbb.org
SUMMARY:JV/V Boys Practice
DESCRIPTION:
URL:https://visionbb.org/event/jvv-boys-practice-69/
LOCATION:Sacred Heart School\, 1111 Marshall St\, Boone\, IA 50036\, USA
GEO:42.0670251;-93.8783952
END:VEVENT
BEGIN:VEVENT
DTSTART;TZID=America/Chicago:20161025T180000
DTEND;TZID=America/Chicago:20161025T200000
DTSTAMP:20260419T183241
CREATED:20161003T191028Z
LAST-MODIFIED:20161011T143627Z
UID:865-1477418400-1477425600@visionbb.org
SUMMARY:JV/V Boys Practice
DESCRIPTION:
URL:https://visionbb.org/event/jvv-boys-practice-70__trashed/
LOCATION:Sacred Heart School\, 1111 Marshall St\, Boone\, IA 50036\, USA
GEO:42.0670251;-93.8783952
END:VEVENT
BEGIN:VEVENT
DTSTART;TZID=America/Chicago:20161025T180000
DTEND;TZID=America/Chicago:20161025T200000
DTSTAMP:20260419T183241
CREATED:20161003T191027Z
LAST-MODIFIED:20161011T143626Z
UID:850-1477418400-1477425600@visionbb.org
SUMMARY:JV/V Boys Practice
DESCRIPTION:
URL:https://visionbb.org/event/jvv-boys-practice-64/
LOCATION:Sacred Heart School\, 1111 Marshall St\, Boone\, IA 50036\, USA
GEO:42.0670251;-93.8783952
END:VEVENT
BEGIN:VEVENT
DTSTART;TZID=America/Chicago:20161025T180000
DTEND;TZID=America/Chicago:20161025T200000
DTSTAMP:20260419T183241
CREATED:20161003T191027Z
LAST-MODIFIED:20161011T143626Z
UID:852-1477418400-1477425600@visionbb.org
SUMMARY:JV/V Boys Practice
DESCRIPTION:
URL:https://visionbb.org/event/jvv-boys-practice-65/
LOCATION:Sacred Heart School\, 1111 Marshall St\, Boone\, IA 50036\, USA
GEO:42.0670251;-93.8783952
END:VEVENT
BEGIN:VEVENT
DTSTART;TZID=America/Chicago:20161025T180000
DTEND;TZID=America/Chicago:20161025T200000
DTSTAMP:20260419T183241
CREATED:20161003T191027Z
LAST-MODIFIED:20161011T143626Z
UID:855-1477418400-1477425600@visionbb.org
SUMMARY:JV/V Boys Practice
DESCRIPTION:
URL:https://visionbb.org/event/jvv-boys-practice-66__trashed/
LOCATION:Sacred Heart School\, 1111 Marshall St\, Boone\, IA 50036\, USA
GEO:42.0670251;-93.8783952
END:VEVENT
BEGIN:VEVENT
DTSTART;TZID=America/Chicago:20161025T180000
DTEND;TZID=America/Chicago:20161025T200000
DTSTAMP:20260419T183241
CREATED:20161003T191027Z
LAST-MODIFIED:20161011T143626Z
UID:857-1477418400-1477425600@visionbb.org
SUMMARY:JV/V Boys Practice
DESCRIPTION:
URL:https://visionbb.org/event/jvv-boys-practice-67__trashed/
LOCATION:Sacred Heart School\, 1111 Marshall St\, Boone\, IA 50036\, USA
GEO:42.0670251;-93.8783952
END:VEVENT
BEGIN:VEVENT
DTSTART;TZID=America/Chicago:20161025T180000
DTEND;TZID=America/Chicago:20161025T200000
DTSTAMP:20260419T183241
CREATED:20161003T191026Z
LAST-MODIFIED:20161011T143625Z
UID:842-1477418400-1477425600@visionbb.org
SUMMARY:JV/V Boys Practice
DESCRIPTION:
URL:https://visionbb.org/event/jvv-boys-practice-61/
LOCATION:Sacred Heart School\, 1111 Marshall St\, Boone\, IA 50036\, USA
GEO:42.0670251;-93.8783952
END:VEVENT
BEGIN:VEVENT
DTSTART;TZID=America/Chicago:20161025T180000
DTEND;TZID=America/Chicago:20161025T200000
DTSTAMP:20260419T183241
CREATED:20161003T191026Z
LAST-MODIFIED:20161011T143626Z
UID:845-1477418400-1477425600@visionbb.org
SUMMARY:JV/V Boys Practice
DESCRIPTION:
URL:https://visionbb.org/event/jvv-boys-practice-62__trashed/
LOCATION:Sacred Heart School\, 1111 Marshall St\, Boone\, IA 50036\, USA
GEO:42.0670251;-93.8783952
END:VEVENT
BEGIN:VEVENT
DTSTART;TZID=America/Chicago:20161025T180000
DTEND;TZID=America/Chicago:20161025T200000
DTSTAMP:20260419T183241
CREATED:20161003T191026Z
LAST-MODIFIED:20161011T143626Z
UID:847-1477418400-1477425600@visionbb.org
SUMMARY:JV/V Boys Practice
DESCRIPTION:
URL:https://visionbb.org/event/jvv-boys-practice-63__trashed/
LOCATION:Sacred Heart School\, 1111 Marshall St\, Boone\, IA 50036\, USA
GEO:42.0670251;-93.8783952
END:VEVENT
BEGIN:VEVENT
DTSTART;TZID=America/Chicago:20161025T180000
DTEND;TZID=America/Chicago:20161025T200000
DTSTAMP:20260419T183241
CREATED:20161003T191025Z
LAST-MODIFIED:20161011T143625Z
UID:835-1477418400-1477425600@visionbb.org
SUMMARY:JV/V Boys Practice
DESCRIPTION:
URL:https://visionbb.org/event/jvv-boys-practice-58/
LOCATION:Sacred Heart School\, 1111 Marshall St\, Boone\, IA 50036\, USA
GEO:42.0670251;-93.8783952
END:VEVENT
BEGIN:VEVENT
DTSTART;TZID=America/Chicago:20161025T180000
DTEND;TZID=America/Chicago:20161025T200000
DTSTAMP:20260419T183241
CREATED:20161003T191025Z
LAST-MODIFIED:20161011T143625Z
UID:837-1477418400-1477425600@visionbb.org
SUMMARY:JV/V Boys Practice
DESCRIPTION:
URL:https://visionbb.org/event/jvv-boys-practice-59__trashed/
LOCATION:Sacred Heart School\, 1111 Marshall St\, Boone\, IA 50036\, USA
GEO:42.0670251;-93.8783952
END:VEVENT
BEGIN:VEVENT
DTSTART;TZID=America/Chicago:20161025T180000
DTEND;TZID=America/Chicago:20161025T200000
DTSTAMP:20260419T183241
CREATED:20161003T191025Z
LAST-MODIFIED:20161011T143625Z
UID:840-1477418400-1477425600@visionbb.org
SUMMARY:JV/V Boys Practice
DESCRIPTION:
URL:https://visionbb.org/event/jvv-boys-practice-60/
LOCATION:Sacred Heart School\, 1111 Marshall St\, Boone\, IA 50036\, USA
GEO:42.0670251;-93.8783952
END:VEVENT
BEGIN:VEVENT
DTSTART;TZID=America/Chicago:20161025T180000
DTEND;TZID=America/Chicago:20161025T200000
DTSTAMP:20260419T183241
CREATED:20161003T191024Z
LAST-MODIFIED:20161011T143625Z
UID:830-1477418400-1477425600@visionbb.org
SUMMARY:JV/V Boys Practice
DESCRIPTION:
URL:https://visionbb.org/event/jvv-boys-practice-56/
LOCATION:Sacred Heart School\, 1111 Marshall St\, Boone\, IA 50036\, USA
GEO:42.0670251;-93.8783952
END:VEVENT
BEGIN:VEVENT
DTSTART;TZID=America/Chicago:20161025T180000
DTEND;TZID=America/Chicago:20161025T200000
DTSTAMP:20260419T183241
CREATED:20161003T191024Z
LAST-MODIFIED:20161011T143625Z
UID:832-1477418400-1477425600@visionbb.org
SUMMARY:JV/V Boys Practice
DESCRIPTION:
URL:https://visionbb.org/event/jvv-boys-practice-57__trashed/
LOCATION:Sacred Heart School\, 1111 Marshall St\, Boone\, IA 50036\, USA
GEO:42.0670251;-93.8783952
END:VEVENT
BEGIN:VEVENT
DTSTART;TZID=America/Chicago:20161025T180000
DTEND;TZID=America/Chicago:20161025T200000
DTSTAMP:20260419T183241
CREATED:20161003T191024Z
LAST-MODIFIED:20161011T143624Z
UID:825-1477418400-1477425600@visionbb.org
SUMMARY:JV/V Boys Practice
DESCRIPTION:
URL:https://visionbb.org/event/jvv-boys-practice-54/
LOCATION:Sacred Heart School\, 1111 Marshall St\, Boone\, IA 50036\, USA
GEO:42.0670251;-93.8783952
END:VEVENT
BEGIN:VEVENT
DTSTART;TZID=America/Chicago:20161025T180000
DTEND;TZID=America/Chicago:20161025T200000
DTSTAMP:20260419T183241
CREATED:20161003T191024Z
LAST-MODIFIED:20161011T143624Z
UID:827-1477418400-1477425600@visionbb.org
SUMMARY:JV/V Boys Practice
DESCRIPTION:
URL:https://visionbb.org/event/jvv-boys-practice-55/
LOCATION:Sacred Heart School\, 1111 Marshall St\, Boone\, IA 50036\, USA
GEO:42.0670251;-93.8783952
END:VEVENT
BEGIN:VEVENT
DTSTART;TZID=America/Chicago:20161025T180000
DTEND;TZID=America/Chicago:20161025T200000
DTSTAMP:20260419T183241
CREATED:20161003T191023Z
LAST-MODIFIED:20161011T143624Z
UID:817-1477418400-1477425600@visionbb.org
SUMMARY:JV/V Boys Practice
DESCRIPTION:
URL:https://visionbb.org/event/jvv-boys-practice-51/
LOCATION:Sacred Heart School\, 1111 Marshall St\, Boone\, IA 50036\, USA
GEO:42.0670251;-93.8783952
END:VEVENT
BEGIN:VEVENT
DTSTART;TZID=America/Chicago:20161025T180000
DTEND;TZID=America/Chicago:20161025T200000
DTSTAMP:20260419T183241
CREATED:20161003T191023Z
LAST-MODIFIED:20161011T143624Z
UID:820-1477418400-1477425600@visionbb.org
SUMMARY:JV/V Boys Practice
DESCRIPTION:
URL:https://visionbb.org/event/jvv-boys-practice-52__trashed/
LOCATION:Sacred Heart School\, 1111 Marshall St\, Boone\, IA 50036\, USA
GEO:42.0670251;-93.8783952
END:VEVENT
BEGIN:VEVENT
DTSTART;TZID=America/Chicago:20161025T180000
DTEND;TZID=America/Chicago:20161025T200000
DTSTAMP:20260419T183241
CREATED:20161003T191023Z
LAST-MODIFIED:20161011T143624Z
UID:822-1477418400-1477425600@visionbb.org
SUMMARY:JV/V Boys Practice
DESCRIPTION:
URL:https://visionbb.org/event/jvv-boys-practice-53/
LOCATION:Sacred Heart School\, 1111 Marshall St\, Boone\, IA 50036\, USA
GEO:42.0670251;-93.8783952
END:VEVENT
BEGIN:VEVENT
DTSTART;TZID=America/Chicago:20161025T180000
DTEND;TZID=America/Chicago:20161025T200000
DTSTAMP:20260419T183241
CREATED:20161003T191022Z
LAST-MODIFIED:20161011T143623Z
UID:810-1477418400-1477425600@visionbb.org
SUMMARY:JV/V Boys Practice
DESCRIPTION:
URL:https://visionbb.org/event/jvv-boys-practice-48__trashed/
LOCATION:Sacred Heart School\, 1111 Marshall St\, Boone\, IA 50036\, USA
GEO:42.0670251;-93.8783952
END:VEVENT
BEGIN:VEVENT
DTSTART;TZID=America/Chicago:20161025T180000
DTEND;TZID=America/Chicago:20161025T200000
DTSTAMP:20260419T183241
CREATED:20161003T191022Z
LAST-MODIFIED:20161011T143623Z
UID:812-1477418400-1477425600@visionbb.org
SUMMARY:JV/V Boys Practice
DESCRIPTION:
URL:https://visionbb.org/event/jvv-boys-practice-49/
LOCATION:Sacred Heart School\, 1111 Marshall St\, Boone\, IA 50036\, USA
GEO:42.0670251;-93.8783952
END:VEVENT
BEGIN:VEVENT
DTSTART;TZID=America/Chicago:20161025T180000
DTEND;TZID=America/Chicago:20161025T200000
DTSTAMP:20260419T183241
CREATED:20161003T191022Z
LAST-MODIFIED:20161011T143624Z
UID:815-1477418400-1477425600@visionbb.org
SUMMARY:JV/V Boys Practice
DESCRIPTION:
URL:https://visionbb.org/event/jvv-boys-practice-50__trashed/
LOCATION:Sacred Heart School\, 1111 Marshall St\, Boone\, IA 50036\, USA
GEO:42.0670251;-93.8783952
END:VEVENT
BEGIN:VEVENT
DTSTART;TZID=America/Chicago:20161025T180000
DTEND;TZID=America/Chicago:20161025T200000
DTSTAMP:20260419T183241
CREATED:20161003T191021Z
LAST-MODIFIED:20161011T143622Z
UID:800-1477418400-1477425600@visionbb.org
SUMMARY:JV/V Boys Practice
DESCRIPTION:
URL:https://visionbb.org/event/jvv-boys-practice-44/
LOCATION:Sacred Heart School\, 1111 Marshall St\, Boone\, IA 50036\, USA
GEO:42.0670251;-93.8783952
END:VEVENT
BEGIN:VEVENT
DTSTART;TZID=America/Chicago:20161025T180000
DTEND;TZID=America/Chicago:20161025T200000
DTSTAMP:20260419T183241
CREATED:20161003T191021Z
LAST-MODIFIED:20161011T143623Z
UID:802-1477418400-1477425600@visionbb.org
SUMMARY:JV/V Boys Practice
DESCRIPTION:
URL:https://visionbb.org/event/jvv-boys-practice-45/
LOCATION:Sacred Heart School\, 1111 Marshall St\, Boone\, IA 50036\, USA
GEO:42.0670251;-93.8783952
END:VEVENT
BEGIN:VEVENT
DTSTART;TZID=America/Chicago:20161025T180000
DTEND;TZID=America/Chicago:20161025T200000
DTSTAMP:20260419T183241
CREATED:20161003T191021Z
LAST-MODIFIED:20161011T143623Z
UID:805-1477418400-1477425600@visionbb.org
SUMMARY:JV/V Boys Practice
DESCRIPTION:
URL:https://visionbb.org/event/jvv-boys-practice-46__trashed/
LOCATION:Sacred Heart School\, 1111 Marshall St\, Boone\, IA 50036\, USA
GEO:42.0670251;-93.8783952
END:VEVENT
BEGIN:VEVENT
DTSTART;TZID=America/Chicago:20161025T180000
DTEND;TZID=America/Chicago:20161025T200000
DTSTAMP:20260419T183241
CREATED:20161003T191021Z
LAST-MODIFIED:20161011T143623Z
UID:807-1477418400-1477425600@visionbb.org
SUMMARY:JV/V Boys Practice
DESCRIPTION:
URL:https://visionbb.org/event/jvv-boys-practice-47__trashed/
LOCATION:Sacred Heart School\, 1111 Marshall St\, Boone\, IA 50036\, USA
GEO:42.0670251;-93.8783952
END:VEVENT
BEGIN:VEVENT
DTSTART;TZID=America/Chicago:20161025T180000
DTEND;TZID=America/Chicago:20161025T200000
DTSTAMP:20260419T183241
CREATED:20161003T191020Z
LAST-MODIFIED:20161011T143622Z
UID:792-1477418400-1477425600@visionbb.org
SUMMARY:JV/V Boys Practice
DESCRIPTION:
URL:https://visionbb.org/event/jvv-boys-practice-41/
LOCATION:Sacred Heart School\, 1111 Marshall St\, Boone\, IA 50036\, USA
GEO:42.0670251;-93.8783952
END:VEVENT
BEGIN:VEVENT
DTSTART;TZID=America/Chicago:20161025T180000
DTEND;TZID=America/Chicago:20161025T200000
DTSTAMP:20260419T183241
CREATED:20161003T191020Z
LAST-MODIFIED:20161011T143622Z
UID:795-1477418400-1477425600@visionbb.org
SUMMARY:JV/V Boys Practice
DESCRIPTION:
URL:https://visionbb.org/event/jvv-boys-practice-42/
LOCATION:Sacred Heart School\, 1111 Marshall St\, Boone\, IA 50036\, USA
GEO:42.0670251;-93.8783952
END:VEVENT
BEGIN:VEVENT
DTSTART;TZID=America/Chicago:20161025T180000
DTEND;TZID=America/Chicago:20161025T200000
DTSTAMP:20260419T183241
CREATED:20161003T191020Z
LAST-MODIFIED:20161011T143622Z
UID:797-1477418400-1477425600@visionbb.org
SUMMARY:JV/V Boys Practice
DESCRIPTION:
URL:https://visionbb.org/event/jvv-boys-practice-43__trashed/
LOCATION:Sacred Heart School\, 1111 Marshall St\, Boone\, IA 50036\, USA
GEO:42.0670251;-93.8783952
END:VEVENT
END:VCALENDAR