BEGIN:VCALENDAR
VERSION:2.0
PRODID:-//Vision Homeschool Basketball - ECPv6.15.20//NONSGML v1.0//EN
CALSCALE:GREGORIAN
METHOD:PUBLISH
X-WR-CALNAME:Vision Homeschool Basketball
X-ORIGINAL-URL:https://visionbb.org
X-WR-CALDESC:Events for Vision Homeschool Basketball
REFRESH-INTERVAL;VALUE=DURATION:PT1H
X-Robots-Tag:noindex
X-PUBLISHED-TTL:PT1H
BEGIN:VTIMEZONE
TZID:America/Chicago
BEGIN:DAYLIGHT
TZOFFSETFROM:-0600
TZOFFSETTO:-0500
TZNAME:CDT
DTSTART:20140309T080000
END:DAYLIGHT
BEGIN:STANDARD
TZOFFSETFROM:-0500
TZOFFSETTO:-0600
TZNAME:CST
DTSTART:20141102T070000
END:STANDARD
BEGIN:DAYLIGHT
TZOFFSETFROM:-0600
TZOFFSETTO:-0500
TZNAME:CDT
DTSTART:20150308T080000
END:DAYLIGHT
BEGIN:STANDARD
TZOFFSETFROM:-0500
TZOFFSETTO:-0600
TZNAME:CST
DTSTART:20151101T070000
END:STANDARD
BEGIN:DAYLIGHT
TZOFFSETFROM:-0600
TZOFFSETTO:-0500
TZNAME:CDT
DTSTART:20160313T080000
END:DAYLIGHT
BEGIN:STANDARD
TZOFFSETFROM:-0500
TZOFFSETTO:-0600
TZNAME:CST
DTSTART:20161106T070000
END:STANDARD
END:VTIMEZONE
BEGIN:VEVENT
DTSTART;TZID=America/Chicago:20150214T123000
DTEND;TZID=America/Chicago:20150214T133000
DTSTAMP:20260419T163759
CREATED:20161004T211536Z
LAST-MODIFIED:20161206T223206Z
UID:1175-1423917000-1423920600@visionbb.org
SUMMARY:GAME: V boys vs. Omaha Roadrunners
DESCRIPTION:
URL:https://visionbb.org/event/game-v-boys-vs-omaha-roadrunners-2/
LOCATION:salvation army\, 747 village green drive\, mason city\, ia
GEO:43.1459897;-93.2474362
END:VEVENT
BEGIN:VEVENT
DTSTART;TZID=America/Chicago:20150214T123000
DTEND;TZID=America/Chicago:20150214T133000
DTSTAMP:20260419T163759
CREATED:20161004T211532Z
LAST-MODIFIED:20161004T211532Z
UID:1123-1423917000-1423920600@visionbb.org
SUMMARY:GAME: V boys vs. Omaha Roadrunners
DESCRIPTION:
URL:https://visionbb.org/event/game-v-boys-vs-omaha-roadrunners/
LOCATION:salvation army\, 747 village green drive\, mason city\, ia
GEO:43.1459897;-93.2474362
END:VEVENT
END:VCALENDAR