BEGIN:VCALENDAR
VERSION:2.0
PRODID:-//Vision Homeschool Basketball - ECPv6.15.20//NONSGML v1.0//EN
CALSCALE:GREGORIAN
METHOD:PUBLISH
X-WR-CALNAME:Vision Homeschool Basketball
X-ORIGINAL-URL:https://visionbb.org
X-WR-CALDESC:Events for Vision Homeschool Basketball
REFRESH-INTERVAL;VALUE=DURATION:PT1H
X-Robots-Tag:noindex
X-PUBLISHED-TTL:PT1H
BEGIN:VTIMEZONE
TZID:America/Chicago
BEGIN:DAYLIGHT
TZOFFSETFROM:-0600
TZOFFSETTO:-0500
TZNAME:CDT
DTSTART:20140309T080000
END:DAYLIGHT
BEGIN:STANDARD
TZOFFSETFROM:-0500
TZOFFSETTO:-0600
TZNAME:CST
DTSTART:20141102T070000
END:STANDARD
BEGIN:DAYLIGHT
TZOFFSETFROM:-0600
TZOFFSETTO:-0500
TZNAME:CDT
DTSTART:20150308T080000
END:DAYLIGHT
BEGIN:STANDARD
TZOFFSETFROM:-0500
TZOFFSETTO:-0600
TZNAME:CST
DTSTART:20151101T070000
END:STANDARD
BEGIN:DAYLIGHT
TZOFFSETFROM:-0600
TZOFFSETTO:-0500
TZNAME:CDT
DTSTART:20160313T080000
END:DAYLIGHT
BEGIN:STANDARD
TZOFFSETFROM:-0500
TZOFFSETTO:-0600
TZNAME:CST
DTSTART:20161106T070000
END:STANDARD
BEGIN:DAYLIGHT
TZOFFSETFROM:-0600
TZOFFSETTO:-0500
TZNAME:CDT
DTSTART:20170312T080000
END:DAYLIGHT
BEGIN:STANDARD
TZOFFSETFROM:-0500
TZOFFSETTO:-0600
TZNAME:CST
DTSTART:20171105T070000
END:STANDARD
END:VTIMEZONE
BEGIN:VEVENT
DTSTART;TZID=America/Chicago:20160223T160000
DTEND;TZID=America/Chicago:20160223T173000
DTSTAMP:20260420T121504
CREATED:20161004T211555Z
LAST-MODIFIED:20161206T223213Z
UID:1543-1456243200-1456248600@visionbb.org
SUMMARY:Varsity boys vs. Des Moines Warriors
DESCRIPTION:Buy tickets here:\nhttp://www.homeschooliowa.org/events/hsnightiowaenergy.html
URL:https://visionbb.org/event/varsity-boys-vs-des-moines-warriors-2/
LOCATION:Wells Fargo Arena\, 233 Center St\, Des Moines\, IA 50309\, United States
GEO:41.5925344;-93.6211282
END:VEVENT
BEGIN:VEVENT
DTSTART;TZID=America/Chicago:20160223T160000
DTEND;TZID=America/Chicago:20160223T173000
DTSTAMP:20260420T121504
CREATED:20161004T211553Z
LAST-MODIFIED:20161004T211553Z
UID:1504-1456243200-1456248600@visionbb.org
SUMMARY:Varsity boys vs. Des Moines Warriors
DESCRIPTION:Buy tickets here:\nhttp://www.homeschooliowa.org/events/hsnightiowaenergy.html
URL:https://visionbb.org/event/varsity-boys-vs-des-moines-warriors/
LOCATION:Wells Fargo Arena\, 233 Center St\, Des Moines\, IA 50309\, United States
GEO:41.5925344;-93.6211282
END:VEVENT
BEGIN:VEVENT
DTSTART;TZID=America/Chicago:20150227T164500
DTEND;TZID=America/Chicago:20150227T174500
DTSTAMP:20260420T121504
CREATED:20161004T211537Z
LAST-MODIFIED:20161206T223206Z
UID:1206-1425055500-1425059100@visionbb.org
SUMMARY:V boys vs. DSM Warriors at Wells Fargo
DESCRIPTION:location is actually at https://goo.gl/maps/dZi9cr8tjdz
URL:https://visionbb.org/event/v-boys-vs-dsm-warriors-at-wells-fargo-2/
LOCATION:Wells Fargo Arena\, 233 Center St\, Des Moines\, IA 50309\, United States
GEO:41.5925344;-93.6211282
END:VEVENT
BEGIN:VEVENT
DTSTART;TZID=America/Chicago:20150227T164500
DTEND;TZID=America/Chicago:20150227T174500
DTSTAMP:20260420T121504
CREATED:20161004T211534Z
LAST-MODIFIED:20161004T211534Z
UID:1142-1425055500-1425059100@visionbb.org
SUMMARY:V boys vs. DSM Warriors at Wells Fargo
DESCRIPTION:location is actually at https://goo.gl/maps/dZi9cr8tjdz
URL:https://visionbb.org/event/v-boys-vs-dsm-warriors-at-wells-fargo/
LOCATION:Wells Fargo Arena\, 233 Center St\, Des Moines\, IA 50309\, United States
GEO:41.5925344;-93.6211282
END:VEVENT
END:VCALENDAR